BEGIN:VCALENDAR
VERSION:2.0
PRODID:-//Trattoria Arlati - ECPv6.15.20//NONSGML v1.0//EN
CALSCALE:GREGORIAN
METHOD:PUBLISH
X-ORIGINAL-URL:https://www.trattoriaarlati.it
X-WR-CALDESC:Eventi per Trattoria Arlati
REFRESH-INTERVAL;VALUE=DURATION:PT1H
X-Robots-Tag:noindex
X-PUBLISHED-TTL:PT1H
BEGIN:VTIMEZONE
TZID:UTC
BEGIN:STANDARD
TZOFFSETFROM:+0000
TZOFFSETTO:+0000
TZNAME:UTC
DTSTART:20220101T000000
END:STANDARD
END:VTIMEZONE
BEGIN:VEVENT
DTSTART;TZID=UTC:20230324T220000
DTEND;TZID=UTC:20230324T233000
DTSTAMP:20260422T083727
CREATED:20180226T163754Z
LAST-MODIFIED:20230202T170808Z
UID:1312-1679695200-1679700600@www.trattoriaarlati.it
SUMMARY:Vikipedia Cover Band
DESCRIPTION:I VENERDI’ DELLA MUSICA \nLa Vikypedia Band è un gruppo musicale formato da musicisti con grande esperienza\, che vantano collaborazioni con parecchi nomi prestigiosi della scena musicale italiana e internazionale. \nIl progetto si fonda sulla grande esperienza di Viky Ferrara\, batterista cantante dalla notevole cultura musicale che permette al gruppo di avere un repertorio vastissimo\, sia italiano che internazionale\, che spazia dagli anni ’50 fino ai brani recentissimi. \nCompletano l’organico Dario “Paul” Lerany al basso e Roby Capuano alle tastiere. \nLa band vanta attualmente anche la collaborazione con Alberto Radius nella sua Formula 3
URL:https://www.trattoriaarlati.it/evento/vikipedia-cover-band-6/
LOCATION:Mi
CATEGORIES:I Venerdì della musica
ATTACH;FMTTYPE=image/jpeg:https://www.trattoriaarlati.it/wp-content/uploads/2018/02/vikypedia-banner1.jpg
END:VEVENT
BEGIN:VEVENT
DTSTART;TZID=UTC:20230331T223000
DTEND;TZID=UTC:20230331T233000
DTSTAMP:20260422T083727
CREATED:20180226T162851Z
LAST-MODIFIED:20230202T170913Z
UID:1443-1680301800-1680305400@www.trattoriaarlati.it
SUMMARY:Vikipedia Cover Band
DESCRIPTION:La Vikypedia Band è un gruppo musicale formato da musicisti con grande esperienza\, che vantano collaborazioni con parecchi nomi prestigiosi della scena musicale italiana e internazionale. \nIl progetto si fonda sulla grande esperienza di Viky Ferrara\, batterista cantante dalla notevole cultura musicale che permette al gruppo di avere un repertorio vastissimo\, sia italiano che internazionale\, che spazia dagli anni ’50 fino ai brani recentissimi. \nCompletano l’organico Dario “Paul” Lerany al basso e Roby Capuano alle tastiere. \nLa band vanta attualmente anche la collaborazione con Alberto Radius nella sua Formula 3
URL:https://www.trattoriaarlati.it/evento/vikipedia-cover-band-3-2-2/
LOCATION:Mi
CATEGORIES:I Venerdì della musica
ATTACH;FMTTYPE=image/jpeg:https://www.trattoriaarlati.it/wp-content/uploads/2018/02/vikypedia-banner1.jpg
END:VEVENT
END:VCALENDAR