BEGIN:VCALENDAR
VERSION:2.0
PRODID:-//Trattoria Arlati - ECPv6.15.20//NONSGML v1.0//EN
CALSCALE:GREGORIAN
METHOD:PUBLISH
X-WR-CALNAME:Trattoria Arlati
X-ORIGINAL-URL:https://www.trattoriaarlati.it
X-WR-CALDESC:Eventi per Trattoria Arlati
REFRESH-INTERVAL;VALUE=DURATION:PT1H
X-Robots-Tag:noindex
X-PUBLISHED-TTL:PT1H
BEGIN:VTIMEZONE
TZID:UTC
BEGIN:STANDARD
TZOFFSETFROM:+0000
TZOFFSETTO:+0000
TZNAME:UTC
DTSTART:20180101T000000
END:STANDARD
END:VTIMEZONE
BEGIN:VEVENT
DTSTART;TZID=UTC:20191105T220000
DTEND;TZID=UTC:20191105T233000
DTSTAMP:20260424T195838
CREATED:20180301T152054Z
LAST-MODIFIED:20191022T135932Z
UID:1436-1572991200-1572996600@www.trattoriaarlati.it
SUMMARY:Arlati's Jazz Band
DESCRIPTION:La “Arlati’s jazz Band” è una formazione di jazz tradizionale e swing creata con l’intento di ricostruire il tipico stile jazz che da oltre un secolo si può ascoltare nel quartiere vecchio di questa poetica ed originale città della Louisiana. \nL’interpretazione dei brani eseguiti rievoca l’atmosfera rilassata e caratteristica di questo genere di musica cresciuta\, come è noto\, in un particolare contesto sociale di fine ‘800 che l’ha arricchita di una poesia a volte malinconica. Ma spesse volte la malinconia cede il posto ad un prorompente ottimismo\, ad una “joie de vivre” tipica della gente semplice e piena di fede. \nSono questi stati d’animo che la Arlati’s jazz Band cerca di ricreare con un ampio repertorio di oltre 130 brani che propone dalle marce suonate nelle street parades come “Bourbon street parade” o “Second line” agli spirituals cantati nelle chiese come “Just a closer walk with thee” o “What a friend we have in Jesus” ai blues suonati nel quartiere a luci rosse come “Tin roof blues” o “Thishomingo blues” ai brani creoli come “Mama Inez” o “Rum and coca” e a molte altre canzoni tipiche.
URL:https://www.trattoriaarlati.it/evento/arlatis-jazz-band-3-3/
LOCATION:Mi
CATEGORIES:Arlati's Jazz Band
ATTACH;FMTTYPE=image/jpeg:https://www.trattoriaarlati.it/wp-content/uploads/2018/03/Arlatis-Jazz-Band.jpg
END:VEVENT
BEGIN:VEVENT
DTSTART;TZID=UTC:20191119T220000
DTEND;TZID=UTC:20191119T233000
DTSTAMP:20260424T195838
CREATED:20171120T140420Z
LAST-MODIFIED:20191113T112920Z
UID:752-1574200800-1574206200@www.trattoriaarlati.it
SUMMARY:Arlati's jazz Band
DESCRIPTION:IL JAZZ IN TRATTORIA \nLa “Arlati’s jazz Band” è una formazione di jazz tradizionale e swing creata con l’intento di ricostruire il tipico stile jazz che da oltre un secolo si può ascoltare nel quartiere vecchio di questa poetica ed originale città della Louisiana. \n\nL’interpretazione dei brani eseguiti rievoca l’atmosfera rilassata e caratteristica di questo genere di musica cresciuta\, come è noto\, in un particolare contesto sociale di fine ‘800 che l’ha arricchita di una poesia a volte malinconica. Ma spesse volte la malinconia cede il posto ad un prorompente ottimismo\, ad una “joie de vivre” tipica della gente semplice e piena di fede. \nSono questi stati d’animo che la Arlati’s jazz Band cerca di ricreare con un ampio repertorio di oltre 130 brani che propone dalle marce suonate nelle street parades come “Bourbon street parade” o “Second line” agli spirituals cantati nelle chiese come “Just a closer walk with thee” o “What a friend we have in Jesus” ai blues suonati nel quartiere a luci rosse come “Tin roof blues” o “Thishomingo blues” ai brani creoli come “Mama Inez” o “Rum and coca” e a molte altre canzoni tipiche.
URL:https://www.trattoriaarlati.it/evento/arlatis-jazz-band/
LOCATION:Mi
ATTACH;FMTTYPE=image/jpeg:https://www.trattoriaarlati.it/wp-content/uploads/2018/03/Arlatis-Jazz-Band.jpg
END:VEVENT
BEGIN:VEVENT
DTSTART;TZID=UTC:20191121T220000
DTEND;TZID=UTC:20191121T233000
DTSTAMP:20260424T195838
CREATED:20180226T170455Z
LAST-MODIFIED:20191022T140821Z
UID:1332-1574373600-1574379000@www.trattoriaarlati.it
SUMMARY:I Giovedì dell'Arlati
DESCRIPTION:Il Cabaret quello vero\nQuando alla fine degli anni ’60 la trattoria Arlati decide di dare una svolta importante al locale rendendolo\, non solo luogo di ristoro\, ma anche fucina di artisti e spazio di incontro tra arte\, cucina e cultura\, l’ambiente\, inevitabilmente\, comincia ad essere frequentato da personaggi di notevole profilo artistico che in quegli anni\, grazie all’atmosfera che si era venuta a creare\, si tuffavano in Jam Session di alto livello\, divertendosi e\, di conseguenza\, facendo divertire ed emozionare.\nGli artisti di cui stiamo parlando corrispondono ai nomi di Lucio Battisti\, Gli Area\, i Formula 3\, “mica paglia”\, jam session che non si limitavano al piccolo palcoscenico ma continuavano poi intorno a un bel tagliere di salame\, alla michetta con la scheggia di grana\, perché la cucina\, il buon vino\, la chiacchiera “creativa” di certe compagnie\, diventavano a loro volta uno spettacolo nello spettacolo\, tutti ne godevano\, avventori e artisti stessi.\nManager\, professori\, attori e cantanti seduti allo stesso tavolo dopo una giornata\, o una serata\, di lavoro\, la liberazione dell’anima in un comune senso di appartenenza\, di complicità\, originato dalla condivisa tavola e dal buon vino\, via i freni inibitori\, la sincerità e la naturale esuberanza umana prende il sopravvento\, ci si sente tutti amici e tutti appartenenti alla stessa razza.\nE da quei goderecci spuntini notturni\, chissà quante canzoni di successo sono scaturite.\nE veniamo ai giorni nostri\, Leopoldo\, figlio del Mario\, che dal padre non ha ereditato solo la passione per la cucina ma\, siccome buon sangue non mente\, anche la voglia di mantenere vivo quell’ambiente di contaminazione tra arte e cultura\, e di far rivivere quegli emozionanti momenti del prima del durante e del dopo spettacolo\, decide di perpetuare la tradizione.\nEd ecco gli appuntamenti con la musica del venerdì\, i “5 del mese” con artisti e giornalisti e l’attuale appuntamento del giovedì sera con il cabaret\, “quello vero”\, come amiamo definirlo noi.\nGli artisti\, tutti professionisti\, hanno fatto\, come si dice a Milano\, tanta gavetta\, e il progetto si ripropone di creare sul palco\, ma anche fuori dal palco\, quelle antiche atmosfere che hanno caratterizzato il cabaret alle origini\, la sperimentazione\, il gioco\, il repertorio si\, ma anche l’improvvisazione\, una jam session\, tanto per intenderci\, di comici e musicisti.\nIn questo modo ogni serata diventa unica e irripetibile\, nulla di preparato a tavolino\, un pò come quando i nostri nonni lavoravano il ferro battuto\, ogni pezzo diventava unico\, un opera d’arte. \nIl costo della serata è di € 40\,00 bevande escluse
URL:https://www.trattoriaarlati.it/evento/i-giovedi-dellarlati-6/
LOCATION:Mi
CATEGORIES:I giovedì dell'Arlati
ATTACH;FMTTYPE=image/jpeg:https://www.trattoriaarlati.it/wp-content/uploads/2018/02/igiovedi-5a7c30586ab8e.jpg
END:VEVENT
BEGIN:VEVENT
DTSTART;TZID=UTC:20191122T223000
DTEND;TZID=UTC:20191122T233000
DTSTAMP:20260424T195838
CREATED:20180207T154648Z
LAST-MODIFIED:20191022T141017Z
UID:1019-1574461800-1574465400@www.trattoriaarlati.it
SUMMARY:Vikipedia Cover Band
DESCRIPTION:La Vikypedia Band è un gruppo musicale formato da musicisti con grande esperienza\, che vantano collaborazioni con parecchi nomi prestigiosi della scena musicale italiana e internazionale. \nIl progetto si fonda sulla grande esperienza di Viky Ferrara\, batterista cantante dalla notevole cultura musicale che permette al gruppo di avere un repertorio vastissimo\, sia italiano che internazionale\, che spazia dagli anni ’50 fino ai brani recentissimi. \nCompletano l’organico Dario “Paul” Lerany al basso e Roby Capuano alle tastiere. \nLa band vanta attualmente anche la collaborazione con Alberto Radius nella sua Formula 3
URL:https://www.trattoriaarlati.it/evento/vikipedia-cover-band-2/
LOCATION:Mi
ATTACH;FMTTYPE=image/jpeg:https://www.trattoriaarlati.it/wp-content/uploads/2018/02/vikypedia-banner1.jpg
END:VEVENT
BEGIN:VEVENT
DTSTART;TZID=UTC:20191128T220000
DTEND;TZID=UTC:20191128T233000
DTSTAMP:20260424T195838
CREATED:20180226T165404Z
LAST-MODIFIED:20191022T140930Z
UID:1438-1574978400-1574983800@www.trattoriaarlati.it
SUMMARY:I Giovedì dell'Arlati
DESCRIPTION:Il Cabaret quello vero\nQuando alla fine degli anni ’60 la trattoria Arlati decide di dare una svolta importante al locale rendendolo\, non solo luogo di ristoro\, ma anche fucina di artisti e spazio di incontro tra arte\, cucina e cultura\, l’ambiente\, inevitabilmente\, comincia ad essere frequentato da personaggi di notevole profilo artistico che in quegli anni\, grazie all’atmosfera che si era venuta a creare\, si tuffavano in Jam Session di alto livello\, divertendosi e\, di conseguenza\, facendo divertire ed emozionare.\nGli artisti di cui stiamo parlando corrispondono ai nomi di Lucio Battisti\, Gli Area\, i Formula 3\, “mica paglia”\, jam session che non si limitavano al piccolo palcoscenico ma continuavano poi intorno a un bel tagliere di salame\, alla michetta con la scheggia di grana\, perché la cucina\, il buon vino\, la chiacchiera “creativa” di certe compagnie\, diventavano a loro volta uno spettacolo nello spettacolo\, tutti ne godevano\, avventori e artisti stessi.\nManager\, professori\, attori e cantanti seduti allo stesso tavolo dopo una giornata\, o una serata\, di lavoro\, la liberazione dell’anima in un comune senso di appartenenza\, di complicità\, originato dalla condivisa tavola e dal buon vino\, via i freni inibitori\, la sincerità e la naturale esuberanza umana prende il sopravvento\, ci si sente tutti amici e tutti appartenenti alla stessa razza.\nE da quei goderecci spuntini notturni\, chissà quante canzoni di successo sono scaturite.\nE veniamo ai giorni nostri\, Leopoldo\, figlio del Mario\, che dal padre non ha ereditato solo la passione per la cucina ma\, siccome buon sangue non mente\, anche la voglia di mantenere vivo quell’ambiente di contaminazione tra arte e cultura\, e di far rivivere quegli emozionanti momenti del prima del durante e del dopo spettacolo\, decide di perpetuare la tradizione.\nEd ecco gli appuntamenti con la musica del venerdì\, i “5 del mese” con artisti e giornalisti e l’attuale appuntamento del giovedì sera con il cabaret\, “quello vero”\, come amiamo definirlo noi.\nGli artisti\, tutti professionisti\, hanno fatto\, come si dice a Milano\, tanta gavetta\, e il progetto si ripropone di creare sul palco\, ma anche fuori dal palco\, quelle antiche atmosfere che hanno caratterizzato il cabaret alle origini\, la sperimentazione\, il gioco\, il repertorio si\, ma anche l’improvvisazione\, una jam session\, tanto per intenderci\, di comici e musicisti.\nIn questo modo ogni serata diventa unica e irripetibile\, nulla di preparato a tavolino\, un pò come quando i nostri nonni lavoravano il ferro battuto\, ogni pezzo diventava unico\, un opera d’arte. \nIl costo della serata è di € 40\,00 bevande escluse
URL:https://www.trattoriaarlati.it/evento/i-giovedi-dellarlati-3-2/
LOCATION:Mi
CATEGORIES:I giovedì dell'Arlati
ATTACH;FMTTYPE=image/jpeg:https://www.trattoriaarlati.it/wp-content/uploads/2018/02/igiovedi-5a7c30586ab8e.jpg
END:VEVENT
END:VCALENDAR