BEGIN:VCALENDAR
VERSION:2.0
PRODID:-//Trattoria Arlati - ECPv6.15.20//NONSGML v1.0//EN
CALSCALE:GREGORIAN
METHOD:PUBLISH
X-WR-CALNAME:Trattoria Arlati
X-ORIGINAL-URL:https://www.trattoriaarlati.it
X-WR-CALDESC:Eventi per Trattoria Arlati
REFRESH-INTERVAL;VALUE=DURATION:PT1H
X-Robots-Tag:noindex
X-PUBLISHED-TTL:PT1H
BEGIN:VTIMEZONE
TZID:UTC
BEGIN:STANDARD
TZOFFSETFROM:+0000
TZOFFSETTO:+0000
TZNAME:UTC
DTSTART:20170101T000000
END:STANDARD
END:VTIMEZONE
BEGIN:VEVENT
DTSTART;TZID=UTC:20180214T200000
DTEND;TZID=UTC:20180214T233000
DTSTAMP:20260425T235015
CREATED:20180207T153634Z
LAST-MODIFIED:20180208T111048Z
UID:1007-1518638400-1518651000@www.trattoriaarlati.it
SUMMARY:Menù di san Valentino
DESCRIPTION:Antipasti a scelta \nTagliere di culaccia con paté di fegatini alla milanese \nMortadella al tartufo nero con caprini al pepe \nMisto di salumi con sottaceti e insalata di nervetti \nInsalata di puntarelle con riduzione di acciughe e bocconcini di mozzarella di bufala \nPrimi piatti a scelta \nRisotto al salto alla milanese \nGnocchi di patate con ragù di seppie e zucchine bianche \nTortelloni ai carciofi con parmigiano e burro versato alle erbe aromatiche \nZuppetta vegetariana di farro con cuori di verze \nTagliatelle all’uovo con ragù di salsiccia \nSecondi piatti a scelta \nTagliata di manzo con rucola selvatica e parmigiano di vacche rosse \nStraccetti di vitello agli asparagi con contorno di patate al forno \nSpezzatino di manzo al vino rosso profumato ai funghi e polenta \nMoscardini in umido alla mediterranea con olive Taggiasche su polenta morbida \nTartare di verdure con insalata belga scottata al forno \nDessert a scelta \nPanna cotta all’amaretto con salsa ai frutti di bosco \nTortina paesana con panna montata e gelato alla crema \nBavarese al cioccolato fondente profumata al rhum \nCrostata al cioccolato gianduia e granello di nocciole \nMenù da € 50\,00 a persona bevande escluse
URL:https://www.trattoriaarlati.it/evento/menu-di-san-valentino/
LOCATION:Mi
ATTACH;FMTTYPE=image/jpeg:https://www.trattoriaarlati.it/wp-content/uploads/2018/02/rosa.jpg
END:VEVENT
END:VCALENDAR